BEGIN:VCALENDAR
VERSION:2.0
PRODID:-//Dislipidemias - ECPv5.16.3.1//NONSGML v1.0//EN
CALSCALE:GREGORIAN
METHOD:PUBLISH
X-WR-CALNAME:Dislipidemias
X-ORIGINAL-URL:https://actualidadesendislipidemias.com
X-WR-CALDESC:Eventos para Dislipidemias
REFRESH-INTERVAL;VALUE=DURATION:PT1H
X-Robots-Tag:noindex
X-PUBLISHED-TTL:PT1H
BEGIN:VTIMEZONE
TZID:UTC
BEGIN:STANDARD
TZOFFSETFROM:+0000
TZOFFSETTO:+0000
TZNAME:UTC
DTSTART:20220101T000000
END:STANDARD
TZID:America/Mexico_City
BEGIN:DAYLIGHT
TZOFFSETFROM:-0600
TZOFFSETTO:-0500
TZNAME:CDT
DTSTART:20220403T080000
END:DAYLIGHT
BEGIN:STANDARD
TZOFFSETFROM:-0500
TZOFFSETTO:-0600
TZNAME:CST
DTSTART:20221030T070000
END:STANDARD
END:VTIMEZONE
BEGIN:VEVENT
DTSTART;TZID=UTC:20220921T190000
DTEND;TZID=UTC:20220921T210000
DTSTAMP:20260420T103859
CREATED:20220912T193307Z
LAST-MODIFIED:20220912T193308Z
UID:1157-1663786800-1663794000@actualidadesendislipidemias.com
SUMMARY:Preguntas por Resolver en el Manejo de las Dislipidemias
DESCRIPTION:
URL:https://actualidadesendislipidemias.com/calendario/preguntas-por-resolver-en-el-manejo-de-las-dislipidemias/
ATTACH;FMTTYPE=image/png:https://actualidadesendislipidemias.com/wp-content/uploads/2022/09/HOT-TOPICS-3-SLIDER.png
END:VEVENT
BEGIN:VEVENT
DTSTART;TZID=UTC:20220623T190000
DTEND;TZID=UTC:20220623T210000
DTSTAMP:20260420T103859
CREATED:20220622T140444Z
LAST-MODIFIED:20220622T140444Z
UID:1122-1656010800-1656018000@actualidadesendislipidemias.com
SUMMARY:HIPERCOLESTEROLEMIA: EL ENEMIGO INVISIBLE y la importancia del Perfil Lipídico
DESCRIPTION:Estimado Dr.El Capítulo de Dislipidemias y Aterosclerosis del ANCAM te invita al webinarHipercolesterolemia: El enemigo invisible y la importancia del Perfil Lipídico. \n\n\n\n\n\n\n\n\n\n\nRegistro\n\n\n\nDescargar Programa
URL:https://actualidadesendislipidemias.com/calendario/hipercolesterolemia-el-enemigo-invisible-y-la-importancia-del-perfil-lipidico/
ATTACH;FMTTYPE=image/png:https://actualidadesendislipidemias.com/wp-content/uploads/2022/06/Banner-23-de-junio.png
END:VEVENT
BEGIN:VEVENT
DTSTART;TZID=UTC:20220504T070000
DTEND;TZID=UTC:20220504T230000
DTSTAMP:20260420T103859
CREATED:20220419T181902Z
LAST-MODIFIED:20220502T183417Z
UID:1091-1651647600-1651705200@actualidadesendislipidemias.com
SUMMARY:RIESGO CARDIOVASCULAR: una pandemia invisible.
DESCRIPTION:¿Más mortal que el COVID? \n\n\n\n\nDescargar Programa\n\n\n\n\n\n\n\n\n\n\n\n\n\n\n\n\n\n\n \n\n\n\n\n\n\n\n\n\n\n\n\n\n\nRegistro
URL:https://actualidadesendislipidemias.com/calendario/riesgocardiovascular-una-pandemia-invisible/
ATTACH;FMTTYPE=image/png:https://actualidadesendislipidemias.com/wp-content/uploads/2022/04/Riesgo-cardiovascular-4-mayo.png
END:VEVENT
BEGIN:VEVENT
DTSTART;TZID=America/Mexico_City:20220317T180000
DTEND;TZID=America/Mexico_City:20220317T200000
DTSTAMP:20260420T103859
CREATED:20220307T224105Z
LAST-MODIFIED:20220310T194136Z
UID:671-1647540000-1647547200@actualidadesendislipidemias.com
SUMMARY:Hot Topics en Dislipidemias
DESCRIPTION:Seminario Web\n\n\n\n\n\n\n\n\n\nJueves 17 de marzo 2022 \n\n\n\n18:00 h CDMX
URL:https://actualidadesendislipidemias.com/calendario/capitulo-de-dislipidemias-lanzamiento/
ATTACH;FMTTYPE=image/png:https://actualidadesendislipidemias.com/wp-content/uploads/2021/10/FAVICON-Dislipidemias-02-1.png
END:VEVENT
END:VCALENDAR